BEGIN:VCALENDAR
VERSION:2.0
PRODID: -//Q4 Inc.//EN
METHOD:PUBLISH
BEGIN:VTIMEZONE
TZID:America/New_York
X-LIC-LOCATION:America/New_York
BEGIN:DAYLIGHT
TZOFFSETFROM:-0500
TZOFFSETTO:-0400
TZNAME:EDT
DTSTART:19700308T020000
RRULE:FREQ=YEARLY;BYMONTH=3;BYDAY=2SU
END:DAYLIGHT
BEGIN:STANDARD
TZOFFSETFROM:-0400
TZOFFSETTO:-0500
TZNAME:EST
DTSTART:19701101T020000
RRULE:FREQ=YEARLY;BYMONTH=11;BYDAY=1SU
END:STANDARD
END:VTIMEZONE
BEGIN:VEVENT
ORGANIZER:MAILTO:amazon-ir@amazon.com
DTSTART;TZID="America/New_York":20210729T173000
DTEND;TZID="America/New_York":20210729T183000
LOCATION:
UID:f341fdcd-3b6e-4a57-9602-b13c193995fc
DTSTAMP:20260422T013734
SUMMARY:Q2 2021 Amazon.com, Inc. Earnings Conference Call
DESCRIPTION: View More Information: https://ir.aboutamazon.com/events/event-details/2021/Q2-2021-Amazoncom-Inc-Earnings-Conference-Call/default.aspx
URL;VALUE=URI:https://ir.aboutamazon.com/events/event-details/2021/Q2-2021-Amazoncom-Inc-Earnings-Conference-Call/default.aspx
PRIORITY:5
CLASS:PUBLIC
END:VEVENT
END:VCALENDAR
